{"text_format":"1","workbook":"xlsx","n_sheets":3,"sheets":["Acquisition","PLXDAQ_new_Settings","Graph_Temperature"],"not_rendered":{"charts":0,"images":0,"macros":1,"external_links":0,"defined_names":1,"comments":0,"pivot_tables":0},"unopened":[],"bounds":{"document_bytes":16777216,"sheet_cells":100000,"rows_first":2000,"rows_last":500,"rows_between":2000,"halvings":0,"cell_chars":16384,"cell_head_chars":4096},"cells_cut":0,"cells_raw":0,"read":"whole","date_system":"1900"}

{"sheet":"Acquisition","index":0,"n_rows":1,"n_cols":6,"rows_kept":1,"cut":false,"hidden":false,"merged":[]}
["Date","Heure",null,"Temperature","Capteur_2 (Volt)","Capteur_3 (ohm)"]

{"sheet":"PLXDAQ_new_Settings","index":1,"n_rows":18,"n_cols":5,"rows_kept":18,"cut":false,"hidden":true,"merged":[[2,4,17,5]]}
[]
[]
[null,"Previous Port:",16,null,"DO NOT CHANGE THIS LAYOUT OR THE MACRO WONT WORK ANYMORE !!!!"]
[null,"Previous Baud:",9600]
[null,"Rst on Connect?:",true]
[null,"Custom Checkbox 1",true]
[null,"Custom Checkbox 2",true]
[null,"Custom Checkbox 3",false]
[null,"Sheet name to use:","Acquisition"]
[null,"Log Incoming to DDW:",true]
[null,"Log Outgoing to DDW:",true]
[null,"Log System to DDW:",true]
[null,"Add Timestamp to DDW:",true]
[null,"Custom Form Width:",529.25]
[null,"#EXPERT-CONFIG# Serial Device Read buffer:",1024]
[null,"#EXPERT-CONFIG# Serial Device Write buffer:",1024]
[null,"#EXPERT-CONFIG# Excel Read buffer size:",1024]
[null,"#EXPERT-CONFIG# Excel interim buffer size:",64]

{"sheet":"Graph_Temperature","index":2,"n_rows":105,"n_cols":5,"rows_kept":105,"cut":false,"hidden":false,"merged":[]}
["Heure","Seconde","Température","Température Capteur_2","Température Capteur_3"]
[{"$f":"Acquisition!B2:B203","v":0},{"$f":"(A2-$A$2)*100000","v":0},{"$f":"Acquisition!D2:D573","v":0}]
[{"$f":"Acquisition!B3:B204","v":0},{"$f":"(A3-$A$2)*100000","v":0},{"$f":"Acquisition!D3:D574","v":0}]
[{"$f":"Acquisition!B4:B205","v":0},0,{"$f":"Acquisition!D4:D575","v":0}]
[{"$f":"Acquisition!B5:B206","v":0},0,{"$f":"Acquisition!D5:D576","v":0}]
[{"$f":"Acquisition!B6:B207","v":0},0,{"$f":"Acquisition!D6:D577","v":0}]
[{"$f":"Acquisition!B7:B208","v":0},0,{"$f":"Acquisition!D7:D578","v":0}]
[{"$f":"Acquisition!B8:B209","v":0},0,{"$f":"Acquisition!D8:D579","v":0}]
[{"$f":"Acquisition!B9:B210","v":0},0,{"$f":"Acquisition!D9:D580","v":0}]
[{"$f":"Acquisition!B10:B211","v":0},0,{"$f":"Acquisition!D10:D581","v":0}]
[{"$f":"Acquisition!B11:B212","v":0},0,{"$f":"Acquisition!D11:D582","v":0}]
[{"$f":"Acquisition!B12:B213","v":0},0,{"$f":"Acquisition!D12:D583","v":0}]
[{"$f":"Acquisition!B13:B214","v":0},0,{"$f":"Acquisition!D13:D584","v":0}]
[{"$f":"Acquisition!B14:B215","v":0},0,{"$f":"Acquisition!D14:D585","v":0}]
[{"$f":"Acquisition!B15:B216","v":0},0,{"$f":"Acquisition!D15:D586","v":0}]
[{"$f":"Acquisition!B16:B217","v":0},{"$f":"(A16-$A$2)*100000","v":0},{"$f":"Acquisition!D16:D587","v":0}]
[{"$f":"Acquisition!B17:B218","v":0},0,{"$f":"Acquisition!D17:D588","v":0}]
[{"$f":"Acquisition!B18:B219","v":0},0,{"$f":"Acquisition!D18:D589","v":0}]
[{"$f":"Acquisition!B19:B220","v":0},0,{"$f":"Acquisition!D19:D590","v":0}]
[{"$f":"Acquisition!B20:B221","v":0},0,{"$f":"Acquisition!D20:D591","v":0}]
[{"$f":"Acquisition!B21:B222","v":0},0,{"$f":"Acquisition!D21:D592","v":0}]
[{"$f":"Acquisition!B22:B223","v":0},0,{"$f":"Acquisition!D22:D593","v":0}]
[{"$f":"Acquisition!B23:B224","v":0},0,{"$f":"Acquisition!D23:D594","v":0}]
[{"$f":"Acquisition!B24:B225","v":0},0,{"$f":"Acquisition!D24:D595","v":0}]
[{"$f":"Acquisition!B25:B226","v":0},0,{"$f":"Acquisition!D25:D596","v":0}]
[{"$f":"Acquisition!B26:B227","v":0},0,{"$f":"Acquisition!D26:D597","v":0}]
[{"$f":"Acquisition!B27:B228","v":0},0,{"$f":"Acquisition!D27:D598","v":0}]
[{"$f":"Acquisition!B28:B229","v":0},0,{"$f":"Acquisition!D28:D599","v":0}]
[{"$f":"Acquisition!B29:B230","v":0},0,{"$f":"Acquisition!D29:D600","v":0}]
[{"$f":"Acquisition!B30:B231","v":0},0,{"$f":"Acquisition!D30:D601","v":0}]
[{"$f":"Acquisition!B31:B232","v":0},0,{"$f":"Acquisition!D31:D602","v":0}]
[{"$f":"Acquisition!B32:B233","v":0},0,{"$f":"Acquisition!D32:D603","v":0}]
[{"$f":"Acquisition!B33:B234","v":0},0,{"$f":"Acquisition!D33:D604","v":0}]
[{"$f":"Acquisition!B34:B235","v":0},0,{"$f":"Acquisition!D34:D605","v":0}]
[{"$f":"Acquisition!B35:B236","v":0},0,{"$f":"Acquisition!D35:D606","v":0}]
[{"$f":"Acquisition!B36:B237","v":0},0,{"$f":"Acquisition!D36:D607","v":0}]
[{"$f":"Acquisition!B37:B238","v":0},0,{"$f":"Acquisition!D37:D608","v":0}]
[{"$f":"Acquisition!B38:B239","v":0},0,{"$f":"Acquisition!D38:D609","v":0}]
[{"$f":"Acquisition!B39:B240","v":0},0,{"$f":"Acquisition!D39:D610","v":0}]
[{"$f":"Acquisition!B40:B241","v":0},0,{"$f":"Acquisition!D40:D611","v":0}]
[{"$f":"Acquisition!B41:B242","v":0},0,{"$f":"Acquisition!D41:D612","v":0}]
[{"$f":"Acquisition!B42:B243","v":0},0,{"$f":"Acquisition!D42:D613","v":0}]
[{"$f":"Acquisition!B43:B244","v":0},0,{"$f":"Acquisition!D43:D614","v":0}]
[{"$f":"Acquisition!B44:B245","v":0},0,{"$f":"Acquisition!D44:D615","v":0}]
[{"$f":"Acquisition!B45:B246","v":0},0,{"$f":"Acquisition!D45:D616","v":0}]
[{"$f":"Acquisition!B46:B247","v":0},0,{"$f":"Acquisition!D46:D617","v":0}]
[{"$f":"Acquisition!B47:B248","v":0},0,{"$f":"Acquisition!D47:D618","v":0}]
[{"$f":"Acquisition!B48:B249","v":0},0,{"$f":"Acquisition!D48:D619","v":0}]
[{"$f":"Acquisition!B49:B250","v":0},0,{"$f":"Acquisition!D49:D620","v":0}]
[{"$f":"Acquisition!B50:B251","v":0},0,{"$f":"Acquisition!D50:D621","v":0}]
[{"$f":"Acquisition!B51:B252","v":0},0,{"$f":"Acquisition!D51:D622","v":0}]
[{"$f":"Acquisition!B52:B253","v":0},0,{"$f":"Acquisition!D52:D623","v":0}]
[{"$f":"Acquisition!B53:B254","v":0},0,{"$f":"Acquisition!D53:D624","v":0}]
[{"$f":"Acquisition!B54:B255","v":0},0,{"$f":"Acquisition!D54:D625","v":0}]
[{"$f":"Acquisition!B55:B256","v":0},0,{"$f":"Acquisition!D55:D626","v":0}]
[{"$f":"Acquisition!B56:B257","v":0},0,{"$f":"Acquisition!D56:D627","v":0}]
[{"$f":"Acquisition!B57:B258","v":0},0,{"$f":"Acquisition!D57:D628","v":0}]
[{"$f":"Acquisition!B58:B259","v":0},0,{"$f":"Acquisition!D58:D629","v":0}]
[{"$f":"Acquisition!B59:B260","v":0},0,{"$f":"Acquisition!D59:D630","v":0}]
[{"$f":"Acquisition!B60:B261","v":0},0,{"$f":"Acquisition!D60:D631","v":0}]
[{"$f":"Acquisition!B61:B262","v":0},0,{"$f":"Acquisition!D61:D632","v":0}]
[{"$f":"Acquisition!B62:B263","v":0},0,{"$f":"Acquisition!D62:D633","v":0}]
[{"$f":"Acquisition!B63:B264","v":0},0,{"$f":"Acquisition!D63:D634","v":0}]
[{"$f":"Acquisition!B64:B265","v":0},0,{"$f":"Acquisition!D64:D635","v":0}]
[{"$f":"Acquisition!B65:B266","v":0},0,{"$f":"Acquisition!D65:D636","v":0}]
[{"$f":"Acquisition!B66:B267","v":0},0,{"$f":"Acquisition!D66:D637","v":0}]
[{"$f":"Acquisition!B67:B268","v":0},{"$f":"(A67-$A$2)*100000","v":0},{"$f":"Acquisition!D67:D638","v":0}]
[{"$f":"Acquisition!B68:B269","v":0},0,{"$f":"Acquisition!D68:D639","v":0}]
[{"$f":"Acquisition!B69:B270","v":0},0,{"$f":"Acquisition!D69:D640","v":0}]
[{"$f":"Acquisition!B70:B271","v":0},0,{"$f":"Acquisition!D70:D641","v":0}]
[{"$f":"Acquisition!B71:B272","v":0},0,{"$f":"Acquisition!D71:D642","v":0}]
[{"$f":"Acquisition!B72:B273","v":0},0,{"$f":"Acquisition!D72:D643","v":0}]
[{"$f":"Acquisition!B73:B274","v":0},0,{"$f":"Acquisition!D73:D644","v":0}]
[{"$f":"Acquisition!B74:B275","v":0},0,{"$f":"Acquisition!D74:D645","v":0}]
[{"$f":"Acquisition!B75:B276","v":0},0,{"$f":"Acquisition!D75:D646","v":0}]
[{"$f":"Acquisition!B76:B277","v":0},0,{"$f":"Acquisition!D76:D647","v":0}]
[{"$f":"Acquisition!B77:B278","v":0},0,{"$f":"Acquisition!D77:D648","v":0}]
[{"$f":"Acquisition!B78:B279","v":0},0,{"$f":"Acquisition!D78:D649","v":0}]
[{"$f":"Acquisition!B79:B280","v":0},0,{"$f":"Acquisition!D79:D650","v":0}]
[{"$f":"Acquisition!B80:B281","v":0},0,{"$f":"Acquisition!D80:D651","v":0}]
[{"$f":"Acquisition!B81:B282","v":0},0,{"$f":"Acquisition!D81:D652","v":0}]
[{"$f":"Acquisition!B82:B283","v":0},0,{"$f":"Acquisition!D82:D653","v":0}]
[{"$f":"Acquisition!B83:B284","v":0},0,{"$f":"Acquisition!D83:D654","v":0}]
[{"$f":"Acquisition!B84:B285","v":0},0,{"$f":"Acquisition!D84:D655","v":0}]
[{"$f":"Acquisition!B85:B286","v":0},0,{"$f":"Acquisition!D85:D656","v":0}]
[{"$f":"Acquisition!B86:B287","v":0},0,{"$f":"Acquisition!D86:D657","v":0}]
[{"$f":"Acquisition!B87:B288","v":0},0,{"$f":"Acquisition!D87:D658","v":0}]
[{"$f":"Acquisition!B88:B289","v":0},0,{"$f":"Acquisition!D88:D659","v":0}]
[{"$f":"Acquisition!B89:B290","v":0},0,{"$f":"Acquisition!D89:D660","v":0}]
[{"$f":"Acquisition!B90:B291","v":0},0,{"$f":"Acquisition!D90:D661","v":0}]
[{"$f":"Acquisition!B91:B292","v":0},0,{"$f":"Acquisition!D91:D662","v":0}]
[{"$f":"Acquisition!B92:B293","v":0},0,{"$f":"Acquisition!D92:D663","v":0}]
[{"$f":"Acquisition!B93:B294","v":0},0,{"$f":"Acquisition!D93:D664","v":0}]
[{"$f":"Acquisition!B94:B295","v":0},0,{"$f":"Acquisition!D94:D665","v":0}]
[{"$f":"Acquisition!B95:B296","v":0},0,{"$f":"Acquisition!D95:D666","v":0}]
[{"$f":"Acquisition!B96:B297","v":0},0,{"$f":"Acquisition!D96:D667","v":0}]
[{"$f":"Acquisition!B97:B298","v":0},0,{"$f":"Acquisition!D97:D668","v":0}]
[{"$f":"Acquisition!B98:B299","v":0},0,{"$f":"Acquisition!D98:D669","v":0}]
[{"$f":"Acquisition!B99:B300","v":0},0,{"$f":"Acquisition!D99:D670","v":0}]
[{"$f":"Acquisition!B100:B301","v":0},0,{"$f":"Acquisition!D100:D671","v":0}]
[{"$f":"Acquisition!B101:B302","v":0},0,{"$f":"Acquisition!D101:D672","v":0}]
[{"$f":"Acquisition!B102:B303","v":0},0,{"$f":"Acquisition!D102:D673","v":0}]
[{"$f":"Acquisition!B103:B304","v":0},0,{"$f":"Acquisition!D103:D674","v":0}]
[{"$f":"Acquisition!B104:B305","v":0},0,{"$f":"Acquisition!D104:D675","v":0}]
[{"$f":"Acquisition!B105:B306","v":0},0,{"$f":"Acquisition!D105:D676","v":0}]